BEGIN:VCALENDAR
VERSION:2.0
PRODID:-//Tukios.com/
BEGIN:VEVENT
UID:3c24c8f6-f65e-4bab-9c70-03dffdb68cdf@www.chapmanfhofswainsboro.com
DTSTAMP:20260419T231554Z
DTSTART:20260424T140000Z
DTEND:20260424T150000Z
SUMMARY:Graveside Service
DESCRIPTION:
URL:https://www.chapmanfhofswainsboro.com/obituaries/franklin-davis
LOCATION:   Kite GA 31049
GEO:32.6923836;-82.5145752
END:VEVENT
END:VCALENDAR